BEGIN:VCALENDAR
VERSION:2.0
PRODID:-//UNION DES ARCHITECTES DU VAL DE MARNE - ECPv4.6.19//NONSGML v1.0//EN
CALSCALE:GREGORIAN
METHOD:PUBLISH
X-WR-CALNAME:UNION DES ARCHITECTES DU VAL DE MARNE
X-ORIGINAL-URL:https://www.ua94.fr
X-WR-CALDESC:Events for UNION DES ARCHITECTES DU VAL DE MARNE
BEGIN:VEVENT
DTSTART;TZID=Europe/Paris:20200317T120000
DTEND;TZID=Europe/Paris:20200503T190000
DTSTAMP:20260423T181356
CREATED:20200320T071235Z
LAST-MODIFIED:20200504T163248Z
UID:1794-1584446400-1588532400@www.ua94.fr
SUMMARY:SUSPENSION DES RÉUNIONS MAIS POURSUITE DES VISIOCONFERENCES
DESCRIPTION:En raison de la situation sanitaire due au COVID 19\, les réunions sont suspendues\, nous faisons le nécessaire pour être prêt à la sortie de crise et vous proposer un programme utile à toutes et à tous. \nNous poursuivons nos réunions en visioconférence \nVisio du 15/4/2020 \n \n  \n  \n  \n  \n  \n  \n  \n  \n  \n  \nNous continuons à vous proposer les services d’information sur la page dédiée à cet effet COVID 19 \nPrenez soin de vous. \n
URL:https://www.ua94.fr/evenement/suspension-des-reunions/
END:VEVENT
END:VCALENDAR